Package: BRGenomics Version: 1.18.0 Command: /home/biocbuild/R/R/bin/R CMD check --install=check:BRGenomics.install-out.txt --library=/home/biocbuild/R/R/site-library --no-vignettes --timings BRGenomics_1.18.0.tar.gz StartedAt: 2025-01-28 05:23:02 -0000 (Tue, 28 Jan 2025) EndedAt: 2025-01-28 06:03:02 -0000 (Tue, 28 Jan 2025) EllapsedTime: 2400.0 seconds RetCode: None Status: TIMEOUT CheckDir: BRGenomics.Rcheck Warnings: NA