Package: BREW3R.r Version: 1.2.0 Command: /home/biocbuild/R/R/bin/R CMD check --install=check:BREW3R.r.install-out.txt --library=/home/biocbuild/R/R/site-library --no-vignettes --timings BREW3R.r_1.2.0.tar.gz StartedAt: 2025-04-01 04:39:06 -0000 (Tue, 01 Apr 2025) EndedAt: 2025-04-01 04:40:52 -0000 (Tue, 01 Apr 2025) EllapsedTime: 106.1 seconds RetCode: 0 Status: OK CheckDir: BREW3R.r.Rcheck Warnings: 0