Package: BREW3R.r Version: 1.2.0 Command: rm -rf BREW3R.r.buildbin-libdir && mkdir BREW3R.r.buildbin-libdir && F:\biocbuild\bbs-3.20-bioc\R\bin\R.exe CMD INSTALL --build --library=BREW3R.r.buildbin-libdir BREW3R.r_1.2.0.tar.gz StartedAt: 2025-01-28 07:46:25 -0500 (Tue, 28 Jan 2025) EndedAt: 2025-01-28 07:46:45 -0500 (Tue, 28 Jan 2025) EllapsedTime: 20.6 seconds RetCode: 0 Status: OK PackageFile: BREW3R.r_1.2.0.zip PackageFileSize: 1.842 MiB