Package: BREW3R.r Version: 1.2.0 Command: /home/biocbuild/bbs-3.20-bioc/R/bin/R CMD INSTALL BREW3R.r StartedAt: 2025-01-27 16:03:02 -0500 (Mon, 27 Jan 2025) EndedAt: 2025-01-27 16:03:10 -0500 (Mon, 27 Jan 2025) EllapsedTime: 7.9 seconds RetCode: 0 Status: OK