Package: BREW3R.r Version: 1.2.0 Command: /home/biocbuild/bbs-3.20-bioc/R/bin/R CMD check --install=check:BREW3R.r.install-out.txt --library=/home/biocbuild/bbs-3.20-bioc/R/site-library --timings BREW3R.r_1.2.0.tar.gz StartedAt: 2025-03-31 20:23:43 -0400 (Mon, 31 Mar 2025) EndedAt: 2025-03-31 20:25:30 -0400 (Mon, 31 Mar 2025) EllapsedTime: 106.7 seconds RetCode: 0 Status: OK CheckDir: BREW3R.r.Rcheck Warnings: 0