Package: BREW3R.r Version: 1.2.0 Command: /Library/Frameworks/R.framework/Resources/bin/R CMD build --keep-empty-dirs --no-resave-data BREW3R.r StartedAt: 2025-01-27 17:32:38 -0500 (Mon, 27 Jan 2025) EndedAt: 2025-01-27 17:33:50 -0500 (Mon, 27 Jan 2025) EllapsedTime: 72.8 seconds RetCode: 0 Status: OK PackageFile: BREW3R.r_1.2.0.tar.gz PackageFileSize: 1.9 MiB