Package: BREW3R.r Version: 1.2.0 Command: /home/biocbuild/R/R/bin/R CMD check --install=check:BREW3R.r.install-out.txt --library=/home/biocbuild/R/R/site-library --no-vignettes --timings BREW3R.r_1.2.0.tar.gz StartedAt: 2024-11-20 05:47:04 -0000 (Wed, 20 Nov 2024) EndedAt: 2024-11-20 05:49:05 -0000 (Wed, 20 Nov 2024) EllapsedTime: 120.2 seconds RetCode: 0 Status: OK CheckDir: BREW3R.r.Rcheck Warnings: 0