Package: BREW3R.r Version: 1.2.0 Command: /Library/Frameworks/R.framework/Resources/bin/R CMD INSTALL BREW3R.r StartedAt: 2025-01-27 15:25:05 -0500 (Mon, 27 Jan 2025) EndedAt: 2025-01-27 15:25:15 -0500 (Mon, 27 Jan 2025) EllapsedTime: 10.1 seconds RetCode: 0 Status: OK