Package: BRAIN Version: 1.52.0 Command: chmod a+r BRAIN -R && F:\biocbuild\bbs-3.20-bioc\R\bin\R.exe CMD build --keep-empty-dirs --no-resave-data BRAIN StartedAt: 2025-01-30 17:40:03 -0500 (Thu, 30 Jan 2025) EndedAt: 2025-01-30 17:40:32 -0500 (Thu, 30 Jan 2025) EllapsedTime: 29.2 seconds RetCode: 0 Status: OK PackageFile: BRAIN_1.52.0.tar.gz PackageFileSize: 1.901 MiB