Package: BRAIN Version: 1.52.0 Command: /home/biocbuild/bbs-3.20-bioc/R/bin/R CMD check --install=check:BRAIN.install-out.txt --library=/home/biocbuild/bbs-3.20-bioc/R/site-library --timings BRAIN_1.52.0.tar.gz StartedAt: 2025-01-30 20:25:06 -0500 (Thu, 30 Jan 2025) EndedAt: 2025-01-30 20:25:55 -0500 (Thu, 30 Jan 2025) EllapsedTime: 48.7 seconds RetCode: 0 Status: WARNINGS CheckDir: BRAIN.Rcheck Warnings: 2