Package: BPRMeth Version: 1.32.0 Command: /home/biocbuild/R/R/bin/R CMD check --install=check:BPRMeth.install-out.txt --library=/home/biocbuild/R/R/site-library --no-vignettes --timings BPRMeth_1.32.0.tar.gz StartedAt: 2025-02-04 05:11:15 -0000 (Tue, 04 Feb 2025) EndedAt: 2025-02-04 05:14:02 -0000 (Tue, 04 Feb 2025) EllapsedTime: 167.1 seconds RetCode: 0 Status: OK CheckDir: BPRMeth.Rcheck Warnings: 0