Package: BPRMeth Version: 1.32.0 Command: /home/biocbuild/bbs-3.20-bioc/R/bin/R CMD check --install=check:BPRMeth.install-out.txt --library=/home/biocbuild/bbs-3.20-bioc/R/site-library --timings BPRMeth_1.32.0.tar.gz StartedAt: 2025-02-03 20:34:07 -0500 (Mon, 03 Feb 2025) EndedAt: 2025-02-03 20:37:11 -0500 (Mon, 03 Feb 2025) EllapsedTime: 183.7 seconds RetCode: 0 Status: OK CheckDir: BPRMeth.Rcheck Warnings: 0