Package: BOBaFIT Version: 1.10.0 Command: /home/biocbuild/R/R/bin/R CMD INSTALL BOBaFIT StartedAt: 2025-02-03 20:59:44 -0000 (Mon, 03 Feb 2025) EndedAt: 2025-02-03 21:00:49 -0000 (Mon, 03 Feb 2025) EllapsedTime: 65.1 seconds RetCode: 0 Status: OK