Package: BOBaFIT Version: 1.10.0 Command: chmod a+r BOBaFIT -R && F:\biocbuild\bbs-3.20-bioc\R\bin\R.exe CMD build --keep-empty-dirs --no-resave-data BOBaFIT StartedAt: 2025-02-03 17:51:41 -0500 (Mon, 03 Feb 2025) EndedAt: 2025-02-03 17:53:55 -0500 (Mon, 03 Feb 2025) EllapsedTime: 133.2 seconds RetCode: 0 Status: OK PackageFile: BOBaFIT_1.10.0.tar.gz PackageFileSize: 2.498 MiB