Package: BOBaFIT Version: 1.10.0 Command: /home/biocbuild/bbs-3.20-bioc/R/bin/R CMD check --install=check:BOBaFIT.install-out.txt --library=/home/biocbuild/bbs-3.20-bioc/R/site-library --timings BOBaFIT_1.10.0.tar.gz StartedAt: 2025-03-31 20:20:13 -0400 (Mon, 31 Mar 2025) EndedAt: 2025-03-31 20:27:45 -0400 (Mon, 31 Mar 2025) EllapsedTime: 452.0 seconds RetCode: 0 Status: WARNINGS CheckDir: BOBaFIT.Rcheck Warnings: 1