Package: BOBaFIT Version: 1.10.0 Command: /Library/Frameworks/R.framework/Resources/bin/R CMD build --keep-empty-dirs --no-resave-data BOBaFIT StartedAt: 2025-03-31 17:19:53 -0400 (Mon, 31 Mar 2025) EndedAt: 2025-03-31 17:23:17 -0400 (Mon, 31 Mar 2025) EllapsedTime: 203.6 seconds RetCode: 0 Status: OK PackageFile: BOBaFIT_1.10.0.tar.gz PackageFileSize: 2.498 MiB