Package: BLMA Version: 1.30.0 Command: /Library/Frameworks/R.framework/Resources/bin/R CMD build --keep-empty-dirs --no-resave-data BLMA StartedAt: 2025-03-31 17:19:33 -0400 (Mon, 31 Mar 2025) EndedAt: 2025-03-31 17:29:44 -0400 (Mon, 31 Mar 2025) EllapsedTime: 611.4 seconds RetCode: 0 Status: OK PackageFile: BLMA_1.30.0.tar.gz PackageFileSize: 2.826 MiB