Package: BG2 Version: 1.6.0 Command: /Library/Frameworks/R.framework/Resources/bin/R CMD INSTALL BG2 StartedAt: 2024-11-19 15:39:05 -0500 (Tue, 19 Nov 2024) EndedAt: 2024-11-19 15:39:11 -0500 (Tue, 19 Nov 2024) EllapsedTime: 5.8 seconds RetCode: 0 Status: OK