Package: BEclear Version: 2.22.0 Command: rm -rf BEclear.buildbin-libdir && mkdir BEclear.buildbin-libdir && F:\biocbuild\bbs-3.20-bioc\R\bin\R.exe CMD INSTALL --build --library=BEclear.buildbin-libdir BEclear_2.22.0.tar.gz StartedAt: 2025-01-28 07:41:56 -0500 (Tue, 28 Jan 2025) EndedAt: 2025-01-28 07:43:32 -0500 (Tue, 28 Jan 2025) EllapsedTime: 95.5 seconds RetCode: 0 Status: OK PackageFile: BEclear_2.22.0.zip PackageFileSize: 967.2 KiB