Package: BEclear Version: 2.22.0 Command: /home/biocbuild/R/R/bin/R CMD INSTALL BEclear StartedAt: 2024-11-19 20:44:09 -0000 (Tue, 19 Nov 2024) EndedAt: 2024-11-19 20:44:30 -0000 (Tue, 19 Nov 2024) EllapsedTime: 21.2 seconds RetCode: 0 Status: OK