Package: BERT Version: 1.2.0 Command: /home/biocbuild/bbs-3.20-bioc/R/bin/R CMD check --install=check:BERT.install-out.txt --library=/home/biocbuild/bbs-3.20-bioc/R/site-library --timings BERT_1.2.0.tar.gz StartedAt: 2025-03-31 20:06:24 -0400 (Mon, 31 Mar 2025) EndedAt: 2025-03-31 20:07:51 -0400 (Mon, 31 Mar 2025) EllapsedTime: 87.1 seconds RetCode: 0 Status: OK CheckDir: BERT.Rcheck Warnings: 0