Package: BEAT Version: 1.44.0 Command: /home/biocbuild/bbs-3.20-bioc/R/bin/R CMD check --install=check:BEAT.install-out.txt --library=/home/biocbuild/bbs-3.20-bioc/R/site-library --timings BEAT_1.44.0.tar.gz StartedAt: 2025-01-27 21:03:12 -0500 (Mon, 27 Jan 2025) EndedAt: 2025-01-27 21:08:46 -0500 (Mon, 27 Jan 2025) EllapsedTime: 334.3 seconds RetCode: 0 Status: OK CheckDir: BEAT.Rcheck Warnings: 0