Package: BCRANK Version: 1.68.0 Command: /home/biocbuild/R/R/bin/R CMD INSTALL BCRANK StartedAt: 2025-01-27 21:10:58 -0000 (Mon, 27 Jan 2025) EndedAt: 2025-01-27 21:11:12 -0000 (Mon, 27 Jan 2025) EllapsedTime: 14.0 seconds RetCode: 0 Status: OK