Package: BCRANK Version: 1.68.0 Command: F:\biocbuild\bbs-3.20-bioc\R\bin\R.exe CMD check --no-multiarch --install=check:BCRANK.install-out.txt --library=F:\biocbuild\bbs-3.20-bioc\R\library --no-vignettes --timings BCRANK_1.68.0.tar.gz StartedAt: 2025-03-31 23:08:38 -0400 (Mon, 31 Mar 2025) EndedAt: 2025-03-31 23:10:13 -0400 (Mon, 31 Mar 2025) EllapsedTime: 94.4 seconds RetCode: 0 Status: OK CheckDir: BCRANK.Rcheck Warnings: 0