Package: BCRANK Version: 1.68.0 Command: chmod a+r BCRANK -R && F:\biocbuild\bbs-3.20-bioc\R\bin\R.exe CMD build --keep-empty-dirs --no-resave-data BCRANK StartedAt: 2025-02-03 17:38:28 -0500 (Mon, 03 Feb 2025) EndedAt: 2025-02-03 17:39:03 -0500 (Mon, 03 Feb 2025) EllapsedTime: 35.0 seconds RetCode: 0 Status: OK PackageFile: BCRANK_1.68.0.tar.gz PackageFileSize: 2.763 MiB