Package: BCRANK Version: 1.68.0 Command: rm -rf BCRANK.buildbin-libdir && mkdir BCRANK.buildbin-libdir && F:\biocbuild\bbs-3.20-bioc\R\bin\R.exe CMD INSTALL --build --library=BCRANK.buildbin-libdir BCRANK_1.68.0.tar.gz StartedAt: 2025-02-04 08:01:32 -0500 (Tue, 04 Feb 2025) EndedAt: 2025-02-04 08:02:03 -0500 (Tue, 04 Feb 2025) EllapsedTime: 31.3 seconds RetCode: 0 Status: OK PackageFile: BCRANK_1.68.0.zip PackageFileSize: 2.284 MiB