Package: BCRANK Version: 1.68.0 Command: /home/biocbuild/bbs-3.20-bioc/R/bin/R CMD INSTALL BCRANK StartedAt: 2025-01-27 16:02:31 -0500 (Mon, 27 Jan 2025) EndedAt: 2025-01-27 16:02:41 -0500 (Mon, 27 Jan 2025) EllapsedTime: 10.3 seconds RetCode: 0 Status: OK