Package: BCRANK Version: 1.68.0 Command: /home/biocbuild/bbs-3.20-bioc/R/bin/R CMD check --install=check:BCRANK.install-out.txt --library=/home/biocbuild/bbs-3.20-bioc/R/site-library --timings BCRANK_1.68.0.tar.gz StartedAt: 2025-02-03 20:15:54 -0500 (Mon, 03 Feb 2025) EndedAt: 2025-02-03 20:17:08 -0500 (Mon, 03 Feb 2025) EllapsedTime: 74.0 seconds RetCode: 0 Status: OK CheckDir: BCRANK.Rcheck Warnings: 0