Package: BCRANK Version: 1.68.0 Command: /Library/Frameworks/R.framework/Resources/bin/R CMD INSTALL BCRANK StartedAt: 2025-01-27 15:18:51 -0500 (Mon, 27 Jan 2025) EndedAt: 2025-01-27 15:19:19 -0500 (Mon, 27 Jan 2025) EllapsedTime: 27.8 seconds RetCode: 0 Status: OK