Package: BBCAnalyzer Version: 1.36.0 Command: F:\biocbuild\bbs-3.20-bioc\R\bin\R.exe CMD INSTALL BBCAnalyzer StartedAt: 2025-01-27 16:17:42 -0500 (Mon, 27 Jan 2025) EndedAt: 2025-01-27 16:19:23 -0500 (Mon, 27 Jan 2025) EllapsedTime: 100.5 seconds RetCode: 0 Status: OK