Package: BASiCStan Version: 1.8.0 Command: /home/biocbuild/bbs-3.20-bioc/R/bin/R CMD INSTALL BASiCStan StartedAt: 2025-03-31 15:55:26 -0400 (Mon, 31 Mar 2025) EndedAt: 2025-03-31 16:00:11 -0400 (Mon, 31 Mar 2025) EllapsedTime: 285.1 seconds RetCode: 0 Status: OK