Package: BASiCS Version: 2.18.0 Command: /home/biocbuild/bbs-3.20-bioc/R/bin/R CMD build --keep-empty-dirs --no-resave-data --md5 BASiCS StartedAt: 2025-02-10 16:17:57 -0500 (Mon, 10 Feb 2025) EndedAt: 2025-02-10 16:19:39 -0500 (Mon, 10 Feb 2025) EllapsedTime: 102.1 seconds RetCode: 0 Status: OK PackageFile: BASiCS_2.18.0.tar.gz PackageFileSize: 3.202 MiB