Package: BASiCS Version: 2.18.0 Command: /Library/Frameworks/R.framework/Resources/bin/R CMD INSTALL BASiCS StartedAt: 2025-02-03 16:37:23 -0500 (Mon, 03 Feb 2025) EndedAt: 2025-02-03 16:39:51 -0500 (Mon, 03 Feb 2025) EllapsedTime: 148.0 seconds RetCode: 0 Status: OK