Package: BANDITS Version: 1.22.0 Command: /home/biocbuild/R/R/bin/R CMD INSTALL BANDITS StartedAt: 2025-01-30 20:32:13 -0000 (Thu, 30 Jan 2025) EndedAt: 2025-01-30 20:33:39 -0000 (Thu, 30 Jan 2025) EllapsedTime: 86.4 seconds RetCode: 0 Status: OK