Package: BANDITS Version: 1.22.0 Command: /home/biocbuild/bbs-3.20-bioc/R/bin/R CMD build --keep-empty-dirs --no-resave-data --md5 BANDITS StartedAt: 2025-01-30 16:16:13 -0500 (Thu, 30 Jan 2025) EndedAt: 2025-01-30 16:18:43 -0500 (Thu, 30 Jan 2025) EllapsedTime: 150.2 seconds RetCode: 0 Status: OK PackageFile: BANDITS_1.22.0.tar.gz PackageFileSize: 1.289 MiB