Package: BAGS Version: 2.46.0 Command: /home/biocbuild/bbs-3.20-bioc/R/bin/R CMD check --install=check:BAGS.install-out.txt --library=/home/biocbuild/bbs-3.20-bioc/R/site-library --timings BAGS_2.46.0.tar.gz StartedAt: 2024-11-19 23:02:47 -0500 (Tue, 19 Nov 2024) EndedAt: 2024-11-19 23:03:37 -0500 (Tue, 19 Nov 2024) EllapsedTime: 50.1 seconds RetCode: 0 Status: OK CheckDir: BAGS.Rcheck Warnings: 0