Package: BAGS Version: 2.46.0 Command: /home/biocbuild/R/R/bin/R CMD check --install=check:BAGS.install-out.txt --library=/home/biocbuild/R/R/site-library --no-vignettes --timings BAGS_2.46.0.tar.gz StartedAt: 2025-01-28 04:43:45 -0000 (Tue, 28 Jan 2025) EndedAt: 2025-01-28 04:44:55 -0000 (Tue, 28 Jan 2025) EllapsedTime: 70.1 seconds RetCode: 0 Status: OK CheckDir: BAGS.Rcheck Warnings: 0