Package: AssessORF Version: 1.24.0 Command: /home/biocbuild/R/R/bin/R CMD build --keep-empty-dirs --no-resave-data AssessORF StartedAt: 2025-03-31 21:24:36 -0000 (Mon, 31 Mar 2025) EndedAt: 2025-03-31 21:25:23 -0000 (Mon, 31 Mar 2025) EllapsedTime: 47.0 seconds RetCode: 0 Status: OK PackageFile: AssessORF_1.24.0.tar.gz PackageFileSize: 4.695 MiB