Package: AssessORF Version: 1.24.0 Command: /Library/Frameworks/R.framework/Resources/bin/R CMD check --install=check:AssessORF.install-out.txt --library=/Library/Frameworks/R.framework/Resources/library --no-vignettes --timings AssessORF_1.24.0.tar.gz StartedAt: 2025-03-31 23:25:37 -0400 (Mon, 31 Mar 2025) EndedAt: 2025-03-31 23:25:44 -0400 (Mon, 31 Mar 2025) EllapsedTime: 7.8 seconds RetCode: 1 Status: ERROR CheckDir: AssessORF.Rcheck Warnings: NA