Package: AssessORF Version: 1.24.0 Command: rm -rf AssessORF.buildbin-libdir && mkdir AssessORF.buildbin-libdir && /Users/biocbuild/BBS/utils/build-universal.sh AssessORF_1.24.0.tar.gz /Library/Frameworks/R.framework/Resources/bin/R AssessORF.buildbin-libdir StartedAt: 2025-04-01 11:25:30 -0400 (Tue, 01 Apr 2025) EndedAt: 2025-04-01 11:26:01 -0400 (Tue, 01 Apr 2025) EllapsedTime: 30.4 seconds RetCode: 0 Status: OK PackageFile: AssessORF_1.24.0.tgz PackageFileSize: 4.797 MiB