Package: AssessORF Version: 1.24.0 Command: /Library/Frameworks/R.framework/Resources/bin/R CMD build --keep-empty-dirs --no-resave-data AssessORF StartedAt: 2024-11-08 15:58:43 -0500 (Fri, 08 Nov 2024) EndedAt: 2024-11-08 15:58:58 -0500 (Fri, 08 Nov 2024) EllapsedTime: 15.2 seconds RetCode: 0 Status: OK PackageFile: AssessORF_1.24.0.tar.gz PackageFileSize: 4.703 MiB