Package: ArrayExpress Version: 1.66.0 Command: /home/biocbuild/R/R/bin/R CMD INSTALL ArrayExpress StartedAt: 2025-03-31 20:26:13 -0000 (Mon, 31 Mar 2025) EndedAt: 2025-03-31 20:26:45 -0000 (Mon, 31 Mar 2025) EllapsedTime: 32.2 seconds RetCode: 0 Status: OK