Package: ArrayExpress Version: 1.66.0 Command: /home/biocbuild/R/R/bin/R CMD check --install=check:ArrayExpress.install-out.txt --library=/home/biocbuild/R/R/site-library --no-vignettes --timings ArrayExpress_1.66.0.tar.gz StartedAt: 2025-01-31 03:52:04 -0000 (Fri, 31 Jan 2025) EndedAt: 2025-01-31 04:11:13 -0000 (Fri, 31 Jan 2025) EllapsedTime: 1148.9 seconds RetCode: 0 Status: OK CheckDir: ArrayExpress.Rcheck Warnings: 0