Package: ArrayExpress Version: 1.66.0 Command: /Library/Frameworks/R.framework/Resources/bin/R CMD build --keep-empty-dirs --no-resave-data ArrayExpress StartedAt: 2025-03-31 16:54:54 -0400 (Mon, 31 Mar 2025) EndedAt: 2025-03-31 16:58:36 -0400 (Mon, 31 Mar 2025) EllapsedTime: 222.2 seconds RetCode: 0 Status: OK PackageFile: ArrayExpress_1.66.0.tar.gz PackageFileSize: 136.8 KiB