Package: AnnotationHubData Version: 1.36.0 Command: /home/biocbuild/bbs-3.20-bioc/R/bin/R CMD INSTALL AnnotationHubData StartedAt: 2025-03-31 15:33:40 -0400 (Mon, 31 Mar 2025) EndedAt: 2025-03-31 15:34:19 -0400 (Mon, 31 Mar 2025) EllapsedTime: 39.3 seconds RetCode: 0 Status: OK