Package: AnnotationHubData Version: 1.36.0 Command: /Library/Frameworks/R.framework/Resources/bin/R CMD build --keep-empty-dirs --no-resave-data AnnotationHubData StartedAt: 2025-01-27 18:46:28 -0500 (Mon, 27 Jan 2025) EndedAt: 2025-01-27 18:47:22 -0500 (Mon, 27 Jan 2025) EllapsedTime: 53.9 seconds RetCode: 0 Status: OK PackageFile: AnnotationHubData_1.36.0.tar.gz PackageFileSize: 400.4 KiB