Package: AnnotationHub Version: 3.14.0 Command: /home/biocbuild/bbs-3.20-bioc/R/bin/R CMD INSTALL AnnotationHub StartedAt: 2024-11-19 15:50:16 -0500 (Tue, 19 Nov 2024) EndedAt: 2024-11-19 15:50:31 -0500 (Tue, 19 Nov 2024) EllapsedTime: 14.4 seconds RetCode: 0 Status: OK