Package: AnnotationHub Version: 3.14.0 Command: /home/biocbuild/R/R/bin/R CMD INSTALL AnnotationHub StartedAt: 2025-01-30 20:22:26 -0000 (Thu, 30 Jan 2025) EndedAt: 2025-01-30 20:22:47 -0000 (Thu, 30 Jan 2025) EllapsedTime: 21.4 seconds RetCode: 0 Status: OK