Package: AnnotationHub Version: 3.14.0 Command: /home/biocbuild/R/R/bin/R CMD check --install=check:AnnotationHub.install-out.txt --library=/home/biocbuild/R/R/site-library --no-vignettes --timings AnnotationHub_3.14.0.tar.gz StartedAt: 2025-01-31 03:49:26 -0000 (Fri, 31 Jan 2025) EndedAt: 2025-01-31 04:06:00 -0000 (Fri, 31 Jan 2025) EllapsedTime: 994.7 seconds RetCode: 0 Status: OK CheckDir: AnnotationHub.Rcheck Warnings: 0