Package: AnnotationHub Version: 3.14.0 Command: chmod a+r AnnotationHub -R && F:\biocbuild\bbs-3.20-bioc\R\bin\R.exe CMD build --keep-empty-dirs --no-resave-data AnnotationHub StartedAt: 2025-01-27 17:19:30 -0500 (Mon, 27 Jan 2025) EndedAt: 2025-01-27 17:23:22 -0500 (Mon, 27 Jan 2025) EllapsedTime: 232.1 seconds RetCode: 0 Status: OK PackageFile: AnnotationHub_3.14.0.tar.gz PackageFileSize: 976.1 KiB